BEGIN:VCALENDAR
VERSION:2.0
PRODID:-//pretix//pretix.eu//
BEGIN:VTIMEZONE
TZID:Europe/Berlin
BEGIN:STANDARD
DTSTART:20001029T040000
RRULE:FREQ=YEARLY;BYDAY=-1SU;BYMONTH=10
TZNAME:CET
TZOFFSETFROM:+0200
TZOFFSETTO:+0100
END:STANDARD
BEGIN:DAYLIGHT
DTSTART:20000326T030000
RRULE:FREQ=YEARLY;BYDAY=-1SU;BYMONTH=3
TZNAME:CEST
TZOFFSETFROM:+0100
TZOFFSETTO:+0200
END:DAYLIGHT
END:VTIMEZONE
BEGIN:VEVENT
UID:pretix-schloss-reinharz-tickets-4808124@schloss-reinharz.vereinsticket.
 de
DTSTART;TZID=Europe/Berlin:20260104T170000
DTEND;TZID=Europe/Berlin:20260104T180000
DESCRIPTION:Tickets: https://schloss-reinharz.vereinsticket.de/tickets/4808
 124/\nEinlass: 04.01.2026 16:30\nVeranstalter: Förderverein Schloss "Rein
 harz" e.V.
DTSTAMP:20260425T163754Z
LOCATION:Schloss Reinharz\, Reinharz 86\, 06905 Bad Schmiedeberg
SUMMARY:Schloss Reinharz | NeujahrsKONZERT
END:VEVENT
END:VCALENDAR
