BEGIN:VCALENDAR
VERSION:2.0
PRODID:-//pretix//pretix.eu//
BEGIN:VTIMEZONE
TZID:Europe/Berlin
BEGIN:STANDARD
DTSTART:20001029T040000
RRULE:FREQ=YEARLY;BYDAY=-1SU;BYMONTH=10
TZNAME:CET
TZOFFSETFROM:+0200
TZOFFSETTO:+0100
END:STANDARD
BEGIN:DAYLIGHT
DTSTART:20000326T030000
RRULE:FREQ=YEARLY;BYDAY=-1SU;BYMONTH=3
TZNAME:CEST
TZOFFSETFROM:+0100
TZOFFSETTO:+0200
END:DAYLIGHT
END:VTIMEZONE
BEGIN:VEVENT
UID:pretix-schloss-reinharz-tickets-4718750@schloss-reinharz.vereinsticket.
 de
DTSTART;TZID=Europe/Berlin:20260228T150000
DTEND;TZID=Europe/Berlin:20260228T160000
DESCRIPTION:Tickets: https://schloss-reinharz.vereinsticket.de/tickets/4718
 750/\nEinlass: 28.02.2026 14:30\nVeranstalter: Förderverein Schloss "Rein
 harz" e.V.
DTSTAMP:20260425T150057Z
LOCATION:Schloss Reinharz\, Reinharz 86\, 06905 Bad Schmiedeberg
SUMMARY:Schloss Reinharz | Lesung Stefan Schwarz
END:VEVENT
END:VCALENDAR
