BEGIN:VCALENDAR
VERSION:2.0
PRODID:-//pretix//pretix.eu//
BEGIN:VTIMEZONE
TZID:Europe/Berlin
BEGIN:STANDARD
DTSTART:20001029T040000
RRULE:FREQ=YEARLY;BYDAY=-1SU;BYMONTH=10
TZNAME:CET
TZOFFSETFROM:+0200
TZOFFSETTO:+0100
END:STANDARD
BEGIN:DAYLIGHT
DTSTART:20000326T030000
RRULE:FREQ=YEARLY;BYDAY=-1SU;BYMONTH=3
TZNAME:CEST
TZOFFSETFROM:+0100
TZOFFSETTO:+0200
END:DAYLIGHT
END:VTIMEZONE
BEGIN:VEVENT
UID:pretix-schloss-reinharz-tickets-4658789@schloss-reinharz.vereinsticket.
 de
DTSTART;TZID=Europe/Berlin:20250914T120000
DTEND;TZID=Europe/Berlin:20250914T130000
DESCRIPTION:Tickets: https://schloss-reinharz.vereinsticket.de/tickets/4658
 789/\nVeranstalter: Förderverein Schloss "Reinharz" e.V.
DTSTAMP:20260425T234241Z
LOCATION:Schloss Reinharz\, Reinharz 86\, 06905 Bad Schmiedeberg
SUMMARY:Tag des offenen Denkmals® 2025 | Schlossführung 1 | 12:00 Uhr
END:VEVENT
END:VCALENDAR
